BEGIN:VCALENDAR
VERSION:2.0
PRODID:-//ELEN - ECPv6.0.4//NONSGML v1.0//EN
CALSCALE:GREGORIAN
METHOD:PUBLISH
X-WR-CALNAME:ELEN
X-ORIGINAL-URL:https://elen.ngo
X-WR-CALDESC:Events for ELEN
REFRESH-INTERVAL;VALUE=DURATION:PT1H
X-Robots-Tag:noindex
X-PUBLISHED-TTL:PT1H
BEGIN:VTIMEZONE
TZID:Europe/Brussels
BEGIN:DAYLIGHT
TZOFFSETFROM:+0100
TZOFFSETTO:+0200
TZNAME:CEST
DTSTART:20250330T010000
END:DAYLIGHT
BEGIN:STANDARD
TZOFFSETFROM:+0200
TZOFFSETTO:+0100
TZNAME:CET
DTSTART:20251026T010000
END:STANDARD
END:VTIMEZONE
BEGIN:VEVENT
DTSTART;TZID=Europe/Brussels:20251227T170000
DTEND;TZID=Europe/Brussels:20251227T233000
DTSTAMP:20260420T184217
CREATED:20251130T165603Z
LAST-MODIFIED:20251130T170036Z
UID:3348-1766854800-1766878200@elen.ngo
SUMMARY:Euskarari eta euskaltzaletasunari bultzada emateko deia/ Special Event to support Euskara. Abenduak/ December 27th
DESCRIPTION:Abenduaren 27an\, Euskalgintzaren Kontseiluak eta bazkideek deituta\, Bilbao Arena euskaltzalez beteko duen EKITALDIA antolatuko dugu. Informazio guztia eta sarrerak www.pizkundea.eus webgunean daude eskuragarri. \n(On December 27th Euskalgintzaren Kontseilua and its partners will organize an EVENT that will fill the Bilbao Arena with Basque fans. All information and tickets are available on the website www.pizkundea.eus .) \nABENDUAREN 27AN\, ZERGATIK BILBORA?\n💥 Euskaltzaleon indar eta batasunaren erakustaldi bat egiteko. \nEuskarak eta euskal hiztun komunitateak bizi dugun larrialdi linguistikoaren aurrean\, zain gelditu baino\, ekimen eta ilusio berrituak sortzea. Etsipenean jausi beharrean\, euskaraz bizi nahi dugula adierazi\, elkarrekin arnasa hartu\, eta euskarari etorkizuna emateko prest gaudela erakustea. \n💥 Euskal jendarte osoari mezu argi bat helarazteko. \nEgiturazko minorizazioan dagoen euskararen normalizazioa eta biziberritzea guztion ardura da\, gizarte berdintasunarekin\, justiziarekin eta askatasunarekin lotutako beste auzi asko bezala. \n💥 Hizkuntza-politiketan ezinbestekoa eta premiazkoa den jauzi sendo bat bultzatzeko. \nEragile instituzional\, politiko\, ekonomiko\, kultural eta sozial guztiei\, bakoitzaren erantzukizun eta erabakimenaren arabera\, euskararen ezagutzaren unibertsalizazioaren eta erabilera normalerako baldintzen alde egin dezatela eskatzea.
URL:https://elen.ngo/event/euskarari-eta-euskaltzaletasunari-bultzada-emateko-deia-special-event-to-support-euskara-abenduak-december-27th/
END:VEVENT
END:VCALENDAR