BEGIN:VCALENDAR
VERSION:2.0
PRODID:-//ELEN - ECPv6.0.4//NONSGML v1.0//EN
CALSCALE:GREGORIAN
METHOD:PUBLISH
X-ORIGINAL-URL:https://elen.ngo
X-WR-CALDESC:Events for ELEN
REFRESH-INTERVAL;VALUE=DURATION:PT1H
X-Robots-Tag:noindex
X-PUBLISHED-TTL:PT1H
BEGIN:VTIMEZONE
TZID:Europe/Brussels
BEGIN:DAYLIGHT
TZOFFSETFROM:+0100
TZOFFSETTO:+0200
TZNAME:CEST
DTSTART:20250330T010000
END:DAYLIGHT
BEGIN:STANDARD
TZOFFSETFROM:+0200
TZOFFSETTO:+0100
TZNAME:CET
DTSTART:20251026T010000
END:STANDARD
END:VTIMEZONE
BEGIN:VEVENT
DTSTART;VALUE=DATE:20250923
DTEND;VALUE=DATE:20250925
DTSTAMP:20260420T041356
CREATED:20250703T170500Z
LAST-MODIFIED:20250703T170500Z
UID:3152-1758585600-1758758399@elen.ngo
SUMMARY:Congress on National Minorities\, Opole\, Poland.
DESCRIPTION:
URL:https://elen.ngo/event/congress-on-national-minorities-opole-poland/
END:VEVENT
BEGIN:VEVENT
DTSTART;TZID=Europe/Brussels:20250924T173000
DTEND;TZID=Europe/Brussels:20250924T200000
DTSTAMP:20260420T041356
CREATED:20250911T140917Z
LAST-MODIFIED:20250911T140917Z
UID:3175-1758735000-1758744000@elen.ngo
SUMMARY:European Day of Languages Event - Tŷ Cymru\, Brwsel.
DESCRIPTION:Regenerating Minority Languages through Lifelong Learning and the Arts  \nTwo panel sessions followed by a networking reception\, with ELEN President Elin Haf Gruffydd Jones. \nVenue: Ty Cymru\, RP Schuman 11\, Brussels. \nBy invitation only. \n  \n 
URL:https://elen.ngo/event/european-day-of-languages-event-ty-cymru-brwsel/
END:VEVENT
END:VCALENDAR