BEGIN:VCALENDAR
VERSION:2.0
PRODID:-//ELEN - ECPv6.0.4//NONSGML v1.0//EN
CALSCALE:GREGORIAN
METHOD:PUBLISH
X-WR-CALNAME:ELEN
X-ORIGINAL-URL:https://elen.ngo
X-WR-CALDESC:Events for ELEN
REFRESH-INTERVAL;VALUE=DURATION:PT1H
X-Robots-Tag:noindex
X-PUBLISHED-TTL:PT1H
BEGIN:VTIMEZONE
TZID:Europe/Brussels
BEGIN:DAYLIGHT
TZOFFSETFROM:+0100
TZOFFSETTO:+0200
TZNAME:CEST
DTSTART:20250330T010000
END:DAYLIGHT
BEGIN:STANDARD
TZOFFSETFROM:+0200
TZOFFSETTO:+0100
TZNAME:CET
DTSTART:20251026T010000
END:STANDARD
END:VTIMEZONE
BEGIN:VEVENT
DTSTART;TZID=Europe/Brussels:20250920T133000
DTEND;TZID=Europe/Brussels:20250920T180000
DTSTAMP:20260420T040816
CREATED:20250904T140041Z
LAST-MODIFIED:20250904T140041Z
UID:3157-1758375000-1758391200@elen.ngo
SUMMARY:CEARTA - AGÓID NÁISIÚNTA NA nGAEL - National Protest for the Irish language and Gaeltacht.
DESCRIPTION:Cearnóg Parnell\, Baile Átha Cliath.
URL:https://elen.ngo/event/cearta-agoid-naisiunta-na-ngael-national-protest-for-the-irish-language-and-gaeltacht/
END:VEVENT
END:VCALENDAR