BEGIN:VCALENDAR
VERSION:2.0
PRODID:-//ELEN - ECPv6.0.4//NONSGML v1.0//EN
CALSCALE:GREGORIAN
METHOD:PUBLISH
X-WR-CALNAME:ELEN
X-ORIGINAL-URL:https://elen.ngo
X-WR-CALDESC:Events for ELEN
REFRESH-INTERVAL;VALUE=DURATION:PT1H
X-Robots-Tag:noindex
X-PUBLISHED-TTL:PT1H
BEGIN:VTIMEZONE
TZID:Europe/Brussels
BEGIN:DAYLIGHT
TZOFFSETFROM:+0100
TZOFFSETTO:+0200
TZNAME:CEST
DTSTART:20250330T010000
END:DAYLIGHT
BEGIN:STANDARD
TZOFFSETFROM:+0200
TZOFFSETTO:+0100
TZNAME:CET
DTSTART:20251026T010000
END:STANDARD
END:VTIMEZONE
BEGIN:VEVENT
DTSTART;VALUE=DATE:20250624
DTEND;VALUE=DATE:20250628
DTSTAMP:20260420T194552
CREATED:20250623T104703Z
LAST-MODIFIED:20250623T104703Z
UID:3139-1750723200-1751068799@elen.ngo
SUMMARY:International Conference on Minority Languages - ICML XX 2025 Bogotá\, Colombia.
DESCRIPTION:ICML XX 2025\, Bogotá\, Colombia. \nWebsite https://www.uexternado.edu.co/international-conference-on-minority-languages/
URL:https://elen.ngo/event/international-conference-on-minority-languages-icml-xx-2025-bogota-colombia/
END:VEVENT
END:VCALENDAR