BEGIN:VCALENDAR
VERSION:2.0
PRODID:-//ELEN - ECPv6.0.4//NONSGML v1.0//EN
CALSCALE:GREGORIAN
METHOD:PUBLISH
X-ORIGINAL-URL:https://elen.ngo
X-WR-CALDESC:Events for ELEN
REFRESH-INTERVAL;VALUE=DURATION:PT1H
X-Robots-Tag:noindex
X-PUBLISHED-TTL:PT1H
BEGIN:VTIMEZONE
TZID:Europe/Brussels
BEGIN:DAYLIGHT
TZOFFSETFROM:+0100
TZOFFSETTO:+0200
TZNAME:CEST
DTSTART:20250330T010000
END:DAYLIGHT
BEGIN:STANDARD
TZOFFSETFROM:+0200
TZOFFSETTO:+0100
TZNAME:CET
DTSTART:20251026T010000
END:STANDARD
END:VTIMEZONE
BEGIN:VEVENT
DTSTART;TZID=Europe/Brussels:20250430T090000
DTEND;TZID=Europe/Brussels:20250430T123000
DTSTAMP:20260420T093320
CREATED:20250210T113039Z
LAST-MODIFIED:20250210T113039Z
UID:2928-1746003600-1746016200@elen.ngo
SUMMARY:UN 49th Universal Periodic Review\, Spain.
DESCRIPTION:https://www.ohchr.org/en/hr-bodies/upr/upr-sessions
URL:https://elen.ngo/event/un-49th-universal-periodic-review-spain/
LOCATION:Palais de Nations\, Geneva\, 1211\, Switzerland
END:VEVENT
END:VCALENDAR